BEGIN:VCALENDAR
VERSION:2.0
PRODID:icalendar-ruby
CALSCALE:GREGORIAN
METHOD:PUBLISH
BEGIN:VEVENT
DTSTAMP:20260419T131429Z
UID:5-397827@morrisvilleunited.tithelysetup2.com
DTSTART:20260906T140000Z
DTEND:20260906T150000Z
CLASS:PUBLIC
CREATED:20260419T041853
DESCRIPTION:Sunday Worship
LAST-MODIFIED:20260419T041853
LOCATION:
SUMMARY:Sunday Worship
URL;VALUE=URI:https://morrisvilleunited.tithelysetup2.com/events/sunday-wor
 ship/2026-09-06
END:VEVENT
END:VCALENDAR
