BEGIN:VCALENDAR
VERSION:2.0
PRODID:icalendar-ruby
CALSCALE:GREGORIAN
METHOD:PUBLISH
BEGIN:VEVENT
DTSTAMP:20260419T173124Z
UID:5-398350@morrisvilleunited.tithelysetup2.com
DTSTART:20260927T140000Z
DTEND:20260927T150000Z
CLASS:PUBLIC
CREATED:20260419T132444
DESCRIPTION:Sunday Worship
LAST-MODIFIED:20260419T132444
LOCATION:
SUMMARY:Sunday Worship
URL;VALUE=URI:https://morrisvilleunited.tithelysetup2.com/events/sunday-wor
 ship/2026-09-27
END:VEVENT
END:VCALENDAR
