BEGIN:VCALENDAR
VERSION:2.0
PRODID:icalendar-ruby
CALSCALE:GREGORIAN
METHOD:PUBLISH
BEGIN:VEVENT
DTSTAMP:20260419T230231Z
UID:5-398615@morrisvilleunited.tithelysetup2.com
DTSTART:20261025T140000Z
DTEND:20261025T150000Z
CLASS:PUBLIC
CREATED:20260419T170717
DESCRIPTION:Sunday Worship
LAST-MODIFIED:20260419T170717
LOCATION:
SUMMARY:Sunday Worship
URL;VALUE=URI:https://morrisvilleunited.tithelysetup2.com/events/sunday-wor
 ship/2026-10-25
END:VEVENT
END:VCALENDAR
